BEGIN:VCALENDAR
VERSION:2.0
PRODID:-//Centrum Golf - ECPv4.0.6//NONSGML v1.0//EN
CALSCALE:GREGORIAN
METHOD:PUBLISH
X-WR-CALNAME:Centrum Golf
X-ORIGINAL-URL:http://centrumgolf.pl
X-WR-CALDESC:Events for Centrum Golf
BEGIN:VEVENT
DTSTART;VALUE=DATE:20160407
DTEND;VALUE=DATE:20160410
DTSTAMP:20160324T122837
CREATED:20160227
LAST-MODIFIED:20160228
UID:6395-1459987200-1460332799@centrumgolf.pl
SUMMARY:The Masters 2016
DESCRIPTION:W dniach 7-10 kwietnia oglądamy wspólnie 80-tą edycję turnieju Masters\, który będzie jednocześnie pierwszym tegorocznym golfowym turniejem wielkoszlemowym ("majors"). Turniej Masters jak zawsze będzie rozgrywany na polu golfowym Augusta National Golf Club w Georgii.\n\nZapraszamy do wspólnego kibicowania na dużych ekranach w Centrum Golf.\n\n 
URL:http://centrumgolf.pl/wydarzenie/the-masters-2016/
LOCATION:Burakowska 15\, Warszawa\, 01-066\, Polska
CATEGORIES:Wspólne kibicowanie
ATTACH;FMTTYPE=image/jpeg:http://centrumgolf.pl/wp-content/uploads/2016/02/masters.jpg
END:VEVENT
BEGIN:VEVENT
DTSTART;VALUE=DATE:20160616
DTEND;VALUE=DATE:20160619
DTSTAMP:20160324T122837
CREATED:20160227
LAST-MODIFIED:20160228
UID:6396-1466035200-1466380799@centrumgolf.pl
SUMMARY:US Open 2016
DESCRIPTION:W dniach 16-19 kibicujemy wspólnie w Centrum Golf zmaganiom najlepszych golfistów świata. Drugi z tegorocznych wielkoszlemowych turniejów - U.S. Open - będzie rozgrywany na polu golfowym Oakmont Country Club.
URL:http://centrumgolf.pl/wydarzenie/us-open-2016/
LOCATION:Burakowska 15\, Warszawa\, 01-066\, Polska
CATEGORIES:Wspólne kibicowanie
ATTACH;FMTTYPE=image/jpeg:http://centrumgolf.pl/wp-content/uploads/2016/02/US-Open.jpg
END:VEVENT
BEGIN:VEVENT
DTSTART;VALUE=DATE:20160714
DTEND;VALUE=DATE:20160717
DTSTAMP:20160324T122837
CREATED:20160227
LAST-MODIFIED:20160228
UID:6398-1468454400-1468799999@centrumgolf.pl
SUMMARY:British Open 2016
DESCRIPTION:Tegoroczny turniej The Open (British Open) powróci na wybrzeże szkockiego hrabstwa Ayrshire. To już 145-ty turniej The Open\, a jednocześnie dziewiąty rozgrywany na wydmowym\, piaszczystym polu Royal Troon.\n\nNajlepszym graczom świata zmagający się w tym wielkoszlemowym turnieju będziemy kibicować w Centrum Golf od 14 do 17 lipca.
URL:http://centrumgolf.pl/wydarzenie/british-open-2016/
LOCATION:Burakowska 15\, Warszawa\, 01-066\, Polska
CATEGORIES:Wspólne kibicowanie
ATTACH;FMTTYPE=image/png:http://centrumgolf.pl/wp-content/uploads/2016/02/british-open.png
END:VEVENT
BEGIN:VEVENT
DTSTART;VALUE=DATE:20160728
DTEND;VALUE=DATE:20160731
DTSTAMP:20160324T122837
CREATED:20160227
LAST-MODIFIED:20160228
UID:6399-1469664000-1470009599@centrumgolf.pl
SUMMARY:PGA Championship 2016
DESCRIPTION:Tegoroczny turniej PGA Championship odbędzie się już pod koniec lipca (nie\, jak zwykle\, na początku sierpnia). A to wszystko ze względu na powrót golfa na (rozpoczynające się 5. sierpnia w Rio de Janeiro) igrzyska olimpijskie.\n\nTurniej PGA będzie rozgrywany na prywatnym polu Baltusrol Golf Club w Springfield\, New Jersey\, w dniach 28-31 lipca. To oznacza\, że startujący w nim najlepsi golfiści świata będą mieli tylko 11 dni na odpoczynek po poprzednim wielkoszlemowym turnieju (The British Open\, 14-17 lipca).\n\nZapraszamy do śledzenia wszystkich z tych zmagań na dużych ekranach w Centrum Golf.
URL:http://centrumgolf.pl/wydarzenie/pga-championship-2016/
LOCATION:Burakowska 15\, Warszawa\, 01-066\, Polska
CATEGORIES:Wspólne kibicowanie
ATTACH;FMTTYPE=image/png:http://centrumgolf.pl/wp-content/uploads/2016/02/pga-championship.png
END:VEVENT
BEGIN:VEVENT
DTSTART;VALUE=DATE:20160811
DTEND;VALUE=DATE:20160814
DTSTAMP:20160324T122837
CREATED:20160227
LAST-MODIFIED:20160228
UID:6400-1470873600-1471219199@centrumgolf.pl
SUMMARY:Rozgrywki golfowe mężczyzn\, olimpiada w Rio\, 2016
DESCRIPTION:Golf ostatnio rozgrywany był na igrzyskach olimpijskich w 1904 roku. W tym roku\, po 112 latach przerwy\, wraca do programu igrzysk\, na które kwalifikacje zdobędzie 60 zawodników i zawodniczek. Kwalifikacje te zostaną przyznane na podstawie rankingu olimpijskiego z dnia 11 lipca 2016.\n\nZmagania olimpijskie mężczyzn śledzić będziemy wspólnie od 11 do 14 sierpnia.
URL:http://centrumgolf.pl/wydarzenie/rozgrywki-golfowe-mezczyzn-olimpiada-w-rio-2016/
LOCATION:Burakowska 15\, Warszawa\, 01-066\, Polska
CATEGORIES:Wspólne kibicowanie
ATTACH;FMTTYPE=image/jpeg:http://centrumgolf.pl/wp-content/uploads/2016/02/2016-3.jpg
END:VEVENT
BEGIN:VEVENT
DTSTART;VALUE=DATE:20160817
DTEND;VALUE=DATE:20160820
DTSTAMP:20160324T122837
CREATED:20160227
LAST-MODIFIED:20160228
UID:6401-1471392000-1471737599@centrumgolf.pl
SUMMARY:Rozgrywki golfowe kobiet\, olimpiada w Rio\, 2016
DESCRIPTION:Golf ostatnio rozgrywany był na igrzyskach olimpijskich w 1904 roku. W tym roku\, po 112 latach przerwy\, wraca do programu igrzysk\, na które kwalifikacje zdobędzie 60 zawodników i zawodniczek. Kwalifikacje te zostaną przyznane na podstawie rankingu olimpijskiego z dnia 11 lipca 2016.\n\nZmagania olimpijskie kobiet śledzić będziemy wspólnie od 11 do 14 sierpnia.
URL:http://centrumgolf.pl/wydarzenie/rozgrywki-golfowe-kobiet-olimpiada-rio-2016/
LOCATION:Burakowska 15\, Warszawa\, 01-066\, Polska
CATEGORIES:Wspólne kibicowanie
ATTACH;FMTTYPE=image/jpeg:http://centrumgolf.pl/wp-content/uploads/2016/02/2016-3.jpg
END:VEVENT
END:VCALENDAR